BEGIN:VCALENDAR
PRODID:-//EventGuide//NONSGML MetroManager 1.1//EN
VERSION:2.0
METHOD:PUBLISH
BEGIN:VEVENT
DTSTART:20260515T160000
DTEND:20260515T220000
UID:20260419T160000Z-ord50735201@eventguide.com
DTSTAMP:20260515T190416Z
DESCRIPTION:Mayfest is Chicago's summer kickoff featuring live local music, artisan vendors, great food and drinks, plus the Spring Fine Art Mart with artists from...\nChicago Metro Area\nChicago, IL 
SUMMARY:Lincoln Park Mayfest
LOCATION:Chicago Metro Area
END:VEVENT
END:VCALENDAR
