BEGIN:VCALENDAR
PRODID:-//EventGuide//NONSGML MetroManager 1.1//EN
VERSION:2.0
METHOD:PUBLISH
BEGIN:VEVENT
DTSTART:20261108T103000
UID:20260419T103000Z-ord50473703@eventguide.com
DTSTAMP:20261108T182749Z
DESCRIPTION:Ladies and gentlemen, boys and girls, the RBBB Circus presents the Greatest Show on Earth! Featuring animals, clowns, high wire, trapeze and everything...\nChicago Metro Area\nChicago, IL \n847-635-6601
SUMMARY:Barnum & Bailey Circus
LOCATION:Chicago Metro Area
END:VEVENT
END:VCALENDAR
