BEGIN:VCALENDAR
PRODID:-//EventGuide//NONSGML MetroManager 1.1//EN
VERSION:2.0
METHOD:PUBLISH
BEGIN:VEVENT
DTSTART:20260523T100000
DTEND:20260523T170000
UID:20260419T100000Z-ord50453701@eventguide.com
DTSTAMP:20260523T182514Z
DESCRIPTION:European-style indoor/outdoor vintage and antique market in Chicago's West Loop, featuring hundreds of vendors selling antiques, fashion, decor, and...\nChicago Metro Area\nChicago, IL 
SUMMARY:Taste of Randolph Street
LOCATION:Chicago Metro Area
END:VEVENT
END:VCALENDAR
