BEGIN:VCALENDAR
PRODID:-//EventGuide//NONSGML MetroManager 1.1//EN
VERSION:2.0
METHOD:PUBLISH
BEGIN:VEVENT
DTSTART:20260409T200000
UID:20260328T200000Z-bwi50600001@eventguide.com
DTSTAMP:20260409T163759Z
DESCRIPTION:Wrestling sport match\nBaltimore Metro Area\nBaltimore, MD \n410-768-7790
SUMMARY:Micro Wrestling Federation
LOCATION:Baltimore Metro Area
END:VEVENT
END:VCALENDAR
