BEGIN:VCALENDAR
PRODID:-//EventGuide//NONSGML MetroManager 1.1//EN
VERSION:2.0
METHOD:PUBLISH
BEGIN:VEVENT
DTSTART:20260424T180000
UID:20260328T180000Z-atl52097501@eventguide.com
DTSTAMP:20260424T134045Z
DESCRIPTION:Childrens' / Familiy theater performance\nAtlanta Metro Area\nAtlanta, GA \n470-479-7784
SUMMARY:Handyman Hal
LOCATION:Atlanta Metro Area
END:VEVENT
END:VCALENDAR
