BEGIN:VCALENDAR
PRODID:-//EventGuide//NONSGML MetroManager 1.1//EN
VERSION:2.0
METHOD:PUBLISH
BEGIN:VEVENT
DTSTART:20260404T150000
UID:20260329T150000Z-ful50338401@eventguide.com
DTSTAMP:20260404T132500Z
DESCRIPTION:Lecture event\nAnaheim Metro Area\nAnaheim, CA \n714-994-6310
SUMMARY:The Making of Life on Our Planet: Dinosaurs
LOCATION:Anaheim Metro Area
END:VEVENT
END:VCALENDAR
